BEGIN:VCALENDAR
VERSION:2.0
PRODID:-//Alzeyer Carneval Gesellschaft - ECPv6.15.20//NONSGML v1.0//EN
CALSCALE:GREGORIAN
METHOD:PUBLISH
X-WR-CALNAME:Alzeyer Carneval Gesellschaft
X-ORIGINAL-URL:https://acg-alzey.de
X-WR-CALDESC:Veranstaltungen für Alzeyer Carneval Gesellschaft
REFRESH-INTERVAL;VALUE=DURATION:PT1H
X-Robots-Tag:noindex
X-PUBLISHED-TTL:PT1H
BEGIN:VTIMEZONE
TZID:Europe/Berlin
BEGIN:DAYLIGHT
TZOFFSETFROM:+0100
TZOFFSETTO:+0200
TZNAME:CEST
DTSTART:20250330T010000
END:DAYLIGHT
BEGIN:STANDARD
TZOFFSETFROM:+0200
TZOFFSETTO:+0100
TZNAME:CET
DTSTART:20251026T010000
END:STANDARD
BEGIN:DAYLIGHT
TZOFFSETFROM:+0100
TZOFFSETTO:+0200
TZNAME:CEST
DTSTART:20260329T010000
END:DAYLIGHT
BEGIN:STANDARD
TZOFFSETFROM:+0200
TZOFFSETTO:+0100
TZNAME:CET
DTSTART:20261025T010000
END:STANDARD
BEGIN:DAYLIGHT
TZOFFSETFROM:+0100
TZOFFSETTO:+0200
TZNAME:CEST
DTSTART:20270328T010000
END:DAYLIGHT
BEGIN:STANDARD
TZOFFSETFROM:+0200
TZOFFSETTO:+0100
TZNAME:CET
DTSTART:20271031T010000
END:STANDARD
END:VTIMEZONE
BEGIN:VEVENT
DTSTART;TZID=Europe/Berlin:20260816T100000
DTEND;TZID=Europe/Berlin:20260816T170000
DTSTAMP:20260424T133705
CREATED:20230507T091150Z
LAST-MODIFIED:20260316T215208Z
UID:6397-1786874400-1786899600@acg-alzey.de
SUMMARY:Oldtimertreffen
DESCRIPTION:Beim Alzeyer Oldtimertreffen im August werden rund 300 Fahrzeuge aus vergangenen Zeiten durch die Stadt gefahren\, durch einen Fachmann auf dem Rossmann mit Baujahr\, Typ und seinen Besonderheiten den interessierten Zuschauern per Lautsprecher vorgestellt und danach auf dem Parkdeck der Tiefgarage ausgestellt. Hier können sich begeisterte die klassischen Fahrzeuge in aller Ruhe betrachten und auf sich wirken lassen. \nWir werden Euch an diesem Tag auf den Parkplatz der Ostdeutschen Straße mit Essen & Trinken verköstigen.
URL:https://acg-alzey.de/veranstaltungen/oldtimertreffen-2023/
LOCATION:Parkplatz Ostdeutsche Straße\, Alzey\, Ostdeutsche Straße 1\, Alzey\, Rheinland-Pfalz\, 55232\, Deutschland
END:VEVENT
END:VCALENDAR