BEGIN:VCALENDAR
VERSION:2.0
PRODID:-//Alzeyer Carneval Gesellschaft - ECPv6.15.20//NONSGML v1.0//EN
CALSCALE:GREGORIAN
METHOD:PUBLISH
X-WR-CALNAME:Alzeyer Carneval Gesellschaft
X-ORIGINAL-URL:https://acg-alzey.de
X-WR-CALDESC:Veranstaltungen für Alzeyer Carneval Gesellschaft
REFRESH-INTERVAL;VALUE=DURATION:PT1H
X-Robots-Tag:noindex
X-PUBLISHED-TTL:PT1H
BEGIN:VTIMEZONE
TZID:Europe/Berlin
BEGIN:DAYLIGHT
TZOFFSETFROM:+0100
TZOFFSETTO:+0200
TZNAME:CEST
DTSTART:20260329T010000
END:DAYLIGHT
BEGIN:STANDARD
TZOFFSETFROM:+0200
TZOFFSETTO:+0100
TZNAME:CET
DTSTART:20261025T010000
END:STANDARD
BEGIN:DAYLIGHT
TZOFFSETFROM:+0100
TZOFFSETTO:+0200
TZNAME:CEST
DTSTART:20270328T010000
END:DAYLIGHT
BEGIN:STANDARD
TZOFFSETFROM:+0200
TZOFFSETTO:+0100
TZNAME:CET
DTSTART:20271031T010000
END:STANDARD
BEGIN:DAYLIGHT
TZOFFSETFROM:+0100
TZOFFSETTO:+0200
TZNAME:CEST
DTSTART:20280326T010000
END:DAYLIGHT
BEGIN:STANDARD
TZOFFSETFROM:+0200
TZOFFSETTO:+0100
TZNAME:CET
DTSTART:20281029T010000
END:STANDARD
END:VTIMEZONE
BEGIN:VEVENT
DTSTART;VALUE=DATE:20270117
DTEND;VALUE=DATE:20270119
DTSTAMP:20260424T233136
CREATED:20220110T184612Z
LAST-MODIFIED:20260316T214834Z
UID:3796-1800151200-1800237599@acg-alzey.de
SUMMARY:Närrischer Frühschoppen
DESCRIPTION:Schönes Beieinandersein mit lustiger\, lockerer Stimmung und kleinen närrischen Fastnachtseinlagen
URL:https://acg-alzey.de/veranstaltungen/naerrischer-nachmittag-unter-vorbehalt/
LOCATION:Stadthalle Alzey\, Schießgraben 5\, 55232 Alzey\, Deutschland
END:VEVENT
END:VCALENDAR