BEGIN:VCALENDAR
VERSION:2.0
PRODID:-//Alzeyer Carneval Gesellschaft - ECPv6.15.20//NONSGML v1.0//EN
CALSCALE:GREGORIAN
METHOD:PUBLISH
X-WR-CALNAME:Alzeyer Carneval Gesellschaft
X-ORIGINAL-URL:https://acg-alzey.de
X-WR-CALDESC:Veranstaltungen für Alzeyer Carneval Gesellschaft
REFRESH-INTERVAL;VALUE=DURATION:PT1H
X-Robots-Tag:noindex
X-PUBLISHED-TTL:PT1H
BEGIN:VTIMEZONE
TZID:Europe/Berlin
BEGIN:DAYLIGHT
TZOFFSETFROM:+0100
TZOFFSETTO:+0200
TZNAME:CEST
DTSTART:20250330T010000
END:DAYLIGHT
BEGIN:STANDARD
TZOFFSETFROM:+0200
TZOFFSETTO:+0100
TZNAME:CET
DTSTART:20251026T010000
END:STANDARD
BEGIN:DAYLIGHT
TZOFFSETFROM:+0100
TZOFFSETTO:+0200
TZNAME:CEST
DTSTART:20260329T010000
END:DAYLIGHT
BEGIN:STANDARD
TZOFFSETFROM:+0200
TZOFFSETTO:+0100
TZNAME:CET
DTSTART:20261025T010000
END:STANDARD
BEGIN:DAYLIGHT
TZOFFSETFROM:+0100
TZOFFSETTO:+0200
TZNAME:CEST
DTSTART:20270328T010000
END:DAYLIGHT
BEGIN:STANDARD
TZOFFSETFROM:+0200
TZOFFSETTO:+0100
TZNAME:CET
DTSTART:20271031T010000
END:STANDARD
END:VTIMEZONE
BEGIN:VEVENT
DTSTART;TZID=Europe/Berlin:20261111T111100
DTEND;TZID=Europe/Berlin:20261111T120000
DTSTAMP:20260424T200643
CREATED:20220416T161928Z
LAST-MODIFIED:20260316T214935Z
UID:4637-1794395460-1794398400@acg-alzey.de
SUMMARY:Fastnachtseröffnung
DESCRIPTION:Die Traditionelle Fastnachtseröffnung auf dem Fischmarkt in der Alzeyer Innenstadt.
URL:https://acg-alzey.de/veranstaltungen/fastnachtseroeffnung/
LOCATION:Fischmarkt Alzey\, Alzey\, Rheinland-Pfalz\, 55232\, Deutschland
END:VEVENT
END:VCALENDAR